Workbook

Sheet CONSOLIDATED TOTALS
A1: 2022 CONSOLIDATED TOTALS FOR ALL ACCOUNTS OF THE PEOPLE'S CONSULTANTS (note 1) | S1: math check: The value in column A must equal that in column B, unless there is an error somewhere
E2: Income | F2: EXPENSES CATAGORIZED FOR IRS FORM 990 PART IX | Q2: TOTAL EXPENSES | S2: A | T2: = | U2: B
A3: ACCOUNT | B3: START OF YEAR BALANCE IN ACCT | C3: END OF YEAR BALANCE IN ACCT | D3: TRANSFERS BETWEEN ACCOUNTS | F3: 1. (Column B) Grants and other assistance to domestic organizations | G3: 3. (column B) Grants and other assistance to foreign organizations & foreign individuals | H3: 11.a. (Column C) Fees for Services - a. Managemt | I3: 11.b. (Column B) Fees for Services - b. Legal | J3: 11 g. (Column C) g. Other expenses | K3: 12. (Column D) Advertising & Promotion | L3: 13. (Column C) OFFICE (includes bank fees) | M3: 14. Information technology | N3: 17. (Column C) Travel | O3: 23. (column C) Insurance | P3: 24. e. (Column B) All other expenses | S3: Total income + transfers minus total expenses | T3: = | U3: End of year balance minus start of year balance
A4: ADMINISTRATION ACCOUNT | B4: ='ADMIN ACCT'!O5 -> 9775.26 | C4: ='ADMIN ACCT'!O37 -> 6130.89 | D4: ='ADMIN ACCT'!P37 | E4: ='ADMIN ACCT'!C33 -> 157.01 | F4: ='ADMIN ACCT'!D33 -> 0 | G4: ='ADMIN ACCT'!E33 -> -1221 | H4: ='ADMIN ACCT'!F33 -> 0 | I4: ='ADMIN ACCT'!G33 -> -377.35 | J4: ='ADMIN ACCT'!H33 -> 0 | K4: ='ADMIN ACCT'!I33 -> 0 | L4: ='ADMIN ACCT'!J33 -> -11.43 | ... P4: ='ADMIN ACCT'!N33 -> 0 | Q4: =SUM(F4:P4) -> -3801.38 | S4: =E4+Q4 -> -3644.37 | T4: = | U4: =C4-B4 -> -3644.37
A5: PROJECTS ACCOUNT | B5: ='PROJECTS ACCT'!P8 -> 8549.74 | C5: ='PROJECTS ACCT'!P29 -> 1982.49 | D5: ='PROJECTS ACCT'!D18 -> 67.14 | E5: ='PROJECTS ACCT'!C25 -> 6250 | F5: ='PROJECTS ACCT'!E25 -> 0 | G5: ='PROJECTS ACCT'!F25 -> -11500 | H5: ='PROJECTS ACCT'!G25 -> 0 | I5: ='PROJECTS ACCT'!H25 -> 0 | J5: ='PROJECTS ACCT'!I25 -> 0 | K5: ='PROJECTS ACCT'!J25 -> 0 | L5: ='PROJECTS ACCT'!K25 -> -75 | M5: ='PROJECTS ACCT'!L25 -> 0 | ... P5: ='PROJECTS ACCT'!O25 -> 0 | Q5: =SUM(F5:P5) -> -12425 | S5: -6567.25 | T5: = | U5: =C5-B5 -> -6567.25
A6: HUMAN RIGHTS & GoFundMe ACCOUNTS (3) | B6: 0 | C6: ='Human Rights & GoFundMe accts'!T42 -> 39957.92 | D6: ='Human Rights & GoFundMe accts'!U42 | E6: ='Human Rights & GoFundMe accts'!S40 -> 73310 | F6: ='Human Rights & GoFundMe accts'!D35 -> -26776 | G6: ='Human Rights & GoFundMe accts'!E35 -> -6555.08 | H6: ='Human Rights & GoFundMe accts'!F35 -> 0 | I6: ='Human Rights & GoFundMe accts'!G35 -> 0 | J6: ='Human Rights & GoFundMe accts'!H35 -> 0 | K6: ='Human Rights & GoFundMe accts'!I35 -> 0 | L6: ='Human Rights & GoFundMe accts'!J35 -> -21 | M6: ='Human Rights & GoFundMe accts'!K35 -> 0 | ... P6: ='Human Rights & GoFundMe accts'!N35 -> 0 | Q6: =SUM(F6:P6) -> -33352.08 | S6: =E6+Q6 -> 39957.92 | T6: = | U6: =C6-B6 -> 39957.92
A7: PayPal acct. | B7: =PAYPAL!I4 -> 0 | C7: =PAYPAL!H31 -> 2239.01 | D7: =PAYPAL!H22 -> -67.14 | E7: =PAYPAL!G30 -> 2325.38 | M7: =--PAYPAL!H18 -> -19.23 | Q7: =SUM(F7:P7) -> -19.23 | S7: 2239.01 | T7: = | U7: =C7-B7 -> 2239.01
A8: TOTALS | B8: =SUM(B4:B7) -> 18325 | C8: =SUM(C4:C7) -> 50310.31 | D8: =SUM(D4:D7) -> 0 | E8: =SUM(E4:E7) -> 82042.39 | F8: =SUM(F4:F6) -> -26776 | G8: =SUM(G4:G7) -> -19276.08 | H8: =SUM(H4:H7) -> 0 | I8: =SUM(I4:I7) -> -377.35 | J8: =SUM(J4:J7) -> 0 | K8: =SUM(K4:K6) -> 0 | L8: =SUM(L4:L6) -> -107.43 | M8: =SUM(M4:M7) -> -2021.53 | N8: =SUM(N4:N7) -> -189.3 | O8: =SUM(O4:O7) -> -850 | P8: =SUM(P4:P7) -> 0 | Q8: =SUM(F8:P8) -> -49597.69 | S8: =E8+Q8 -> 32444.7 | T8: = | U8: =C8-B8 -> 31985.31
B9: Subtotal for 990 line 19 "Revenue - expenses" | C9: =E8+K9 -> 32444.7 | D9: Subtotal for 990 Part IX Column B "program expenses" | E9: =N8 -> -189.3 | F9: Subtotal added for 990 Part IX Column C "management & general expenses" | G9: =H8+I8+J8+K8+L8+M8+O8+P8 -> -3356.31 | H9: Subtotal for 990 line 17 "other expenses" including legal, office expenses, Information technology, insurance) | I9: =E9+G9 -> -3545.61 | J9: Math check: Subtotal for 990 line 18 and TOTAL EXPENSES ABOVE | K9: =F8+G8+I9 -> -49597.69 | L9: 990 Part III 4a Expenses = Grants | M9: =G4+G5 -> -12721 | N9: 990 Part III 4bExpenses = Grants | O9: =F6+G6 -> -33331.08 | P9: 990 Part III 4e Total program service expenses | Q9: =M9+O9+I9 -> -49597.69
A10: NOTES:
A11: 1. Click tabs at the bottom of this page for more detailed information.
A12: 2. Negative values (in parenthesis) indicate expenses. Positive values indicate income. Blank or dash indicates zero. | O12: =F9+G9 -> #VALUE!
A13: 3. The GoFundMe account and the Human Rights account are used for the same purposes. | O13: =F10+G10 -> 0

Sheet ADMIN ACCT
A1: ADMIN. ACCOUNT | C1: *Note: Negative values (in parenthesis) indicate expenses. Positive values indicate income. Blank or dash indicates zero.
C2: Income | D2: EXPENSES CATAGORIZED FOR IRS FORM 990 PART IX | O2: Balance in this acct on this date
A3: Date | B3: Description | D3: 1. (Column B) Grants and other assistance to domestic organizations | E3: 3. (column B) Grants and other assistance to foreign organizations & foreign individuals | F3: 11.a. (Column C) Fees for Services - a. Managemt | G3: 11.b. (Column B) Fees for Services - b. Legal | H3: 11 g. (Column C) g. Other expenses | I3: 12. (Column D) Advertising & Promotion | J3: 13. (Column C) OFFICE (includes bank fees) | K3: 14. Informa-tion technology | L3: 17. (Column C) Travel | M3: 23. (column C) Insurance | N3: 24. e. (Column B) All other expenses
A4: 2022:
A5: 2022 BEGINNING BALANCE: | O5: 9775.26
A6: no activity between start of year and 6/21/22 | C6: 0 | O6: =O5+SUM(C6:N6) -> 9775.26
A7: 44733 | B7: Transfer $1,221 to personal acct. of Andrew Karp, who in-turn promptly transferred the same amt to AdP in Guatemala (handling it this way avoided a bank fee of $50) | E7: -1221 | O7: =O6+SUM(C7:N7) -> 8554.26
A8: 45125 | B8: VistaPrint Debit card purchase | K8: -85.57 | O8: =O7+SUM(C8:N8) -> 8468.69
A9: 45132 | B9: HelpingHandCreative Debit card purchase | K9: -512.92 | O9: =O8+SUM(C9:N9) -> 7955.77
A10: 45135 | B10: HelpingHandCreative Debit card purchase | K10: -27.05 | O10: =O9+SUM(C10:N10) -> 7928.72
A11: 45161 | B11: HelpingHandCreative Debit card purchase | K11: -512.92 | O11: =O10+SUM(C11:N11) -> 7415.8
A12: 45167 | B12: HelpingHandCreative Debit card purchase | K12: -27.05 | O12: =O11+SUM(C12:N12) -> 7388.75
A13: 45169 | B13: Int'l ATM debit, Panajachel, Guatemala, by B. Clemens for misc. expenses | L13: -81.81 | O13: =O12+SUM(C13:N13) -> 7306.94
A14: 45169 | B14: non-TDBank ATM fee | J14: -3 | O14: =O13+SUM(C14:N14) -> 7303.94
A15: 45169 | B15: Int'l ATM fee | J15: -2.33 | O15: =O14+SUM(C15:N15) -> 7301.61
A16: 45171 | B16: CCD Deposit, Amazon Smile | C16: 139.79 | O16: =O15+SUM(C16:N16) -> 7441.4
A17: 45175 | B17: Int'l ATM debit, Panajachel, Guatemala, by B. Clemens for misc. expenses | L17: -107.49 | O17: =O16+SUM(C17:N17) -> 7333.91
A18: 45175 | B18: non-TDBank ATM fee | J18: -3 | O18: =O17+SUM(C18:N18) -> 7330.91
A19: 45175 | B19: Int'l ATM fee | J19: -3.1 | O19: =O18+SUM(C19:N19) -> 7327.81
A20: 45192 | B20: HelpingHandCreative Debit card purchase | K20: -512.92 | O20: =O19+SUM(C20:N20) -> 6814.89
A21: 45197 | B21: HelpingHandCreative Debit card purchase | K21: -27.05 | O21: =O20+SUM(C21:N21) -> 6787.84
A22: 45227 | B22: HelpingHandCreative Debit card purchase | K22: -27.05 | O22: =O21+SUM(C22:N22) -> 6760.79
A23: 45238 | B23: Missouri Sec. of State (registration) | G23: -25.5 | O23: =O22+SUM(C23:N23) -> 6735.29
A24: 45244 | B24: Website registration Debit card purchase WEB REGISTERWEBSITE 800 8999723 * FL | K24: -48 | O24: =O23+SUM(C24:N24) -> 6687.29
A25: 45248 | B25: Sec. of State Charity registration | G25: -50 | O25: =O24+SUM(C25:N25) -> 6637.29
A26: 45248 | B26: South Carolina service fee | G26: -1.85 | O26: =O25+SUM(C26:N26) -> 6635.44
A27: 45251 | B27: CCD Deposit, Amazon Smile | C27: 17.22 | O27: =O26+SUM(C27:N27) -> 6652.66
A28: 45252 | B28: HelpingHandCreative Debit card purchase | K28: -51.45 | O28: =O27+SUM(C28:N28) -> 6601.21
A29: 45258 | B29: HelpingHandCreative Debit card purchase | K29: -27.05 | O29: =O28+SUM(C29:N29) -> 6574.16
A30: 45260 | B30: Friends of San Lucas to reserve spaces for 2023 course | G30: -300 | K30: 0 | O30: =O29+SUM(C30:N30) -> 6274.16
A31: 45273 | B31: Website registration Debit card purchase 490641 WEB REGISTERWEBSITE 800 8999723 * FL | K31: -116.22 | O31: =O30+SUM(C31:N31) -> 6157.94
A32: 45288 | B32: HelpingHandCreative Debit card purchase | K32: -27.05 | O32: =O31+SUM(C32:N32) -> 6130.89
B33: TOTALS FOR EACH CATEGORY | C33: =SUM(C6:C32) -> 157.01 | D33: =SUM(D6:D32) -> 0 | E33: =SUM(E6:E32) -> -1221 | F33: =SUM(F6:F32) -> 0 | G33: =SUM(G6:G32) -> -377.35 | H33: =SUM(H6:H32) -> 0 | I33: =SUM(I6:I32) -> 0 | J33: =SUM(J6:J32) -> -11.43 | ... N33: =SUM(N6:N32) -> 0
B34: TOTAL ANNUAL EXPENSES FOR THIS ACCT | P34: =SUM(D33:N33) -> -3801.38
B35: TOTAL ANNUAL INCOME FOR THIS ACCT | C35: =C33 -> 157.01
B37: 2022 END OF YEAR BALANCE IN THIS ACCT | O37: =O32 -> 6130.89

Sheet PROJECTS ACCT
A1: PROJECTS ACCOUNT | C1: *Note: Negative values (in parenthesis) indicate expenses. Positive values indicate income. Blank or dash indicates zero.
C2: Income | E2: EXPENSES CATAGORIZED FOR IRS FORM 990 PART IX
A3: Date | B3: Description | D3: transfers between accts | E3: 1. (Column B) Grants and other assistance to domestic organizations | F3: 3. (column B) Grants and other assistance to foreign organizations & foreign individuals | G3: 11.a. (Column C) Fees for Services - a. Managemt | H3: 11.b. (Column B) Fees for Services - b. Legal | I3: 11 g. (Column C) g. Other expenses | J3: 12. (Column D) Advertising & Promotion | K3: 13. (Column C) OFFICE (includes bank fees) | L3: 14. Informa-tion technology | M3: 17. (Column C) Travel | N3: 23. (column C) Insurance | O3: 24. e. (Column B) All other expenses | P3: Balance in this acct on this date
A5: 2021 end of year balance according to bank statement | P5: 6621.18
A6: 44561 | B6: TRANSFER from PayPal acct to Projects Acct. (Note: These funds exitted the PayPal acct on 12/31/21, but did not arrive in the TDBank Projects acct until 1/3/22. They are treated in our accounting as if they arrived on 12/31/21) | D6: 1469.17 | P6: 8090.35
A7: 44561 | B7: early 2022 income treated for accounting purposes as late 2021 income. This is a very minor adjustment and results in 2021 end of year total assets being equal to what was reported to the IRS for 2021 | C7: 459.39 | P7: 8549.74
A8: 2021 END OF YEAR BALANCE for accounting purposes | P8: 8549.74
A9: 2022 BEGINNING BALANCE for accounting purposes: | P9: 8549.74
A10: 44927 | B10: Early 2022 income treated for accounting purposes as late 2021 income. This is a very minor adjustment and results in 2021 end of year total assets being equal to what was reported to the IRS for 2021 | C10: -459.39 | P10: 8090.35
A11: 44929 | B11: deposit, donation from unidentified | C11: 250 | P11: =P10+SUM(C11:O11) -> 8340.35
A12: 44929 | B12: transfer from PayPal acct to Projects Acct | P12: =P11+SUM(C12:O12) -> 8340.35
A13: 44957 | B13: deposit, donation from unidentified | C13: 2000 | P13: =P12+SUM(C13:O13) -> 10340.35
A14: 44989 | B14: Transfer $3,500 to personal acct. of Andrew Karp, who in-turn promptly transferred the same amt to AdP in Guatemala (handling it this way avoided a bank fee of $50) | F14: -3500 | P14: =P13+SUM(C14:O14) -> 6840.35
A15: 45027 | B15: deposit, donation from unidentified | C15: 500 | P15: =P14+SUM(C15:O15) -> 7340.35
A16: 45028 | B16: Transfer $5,000 to personal acct. of Andrew Karp, who in-turn promptly transferred the same amt to AdP in Guatemala (handling it this way avoided a bank fee of $50) | F16: -5000 | P16: =P15+SUM(C16:O16) -> 2340.35
A17: 45062 | B17: Liability insurance | N17: -850 | P17: =P16+SUM(C17:O17) -> 1490.35
A18: 45073 | B18: transfer from PayPal acct to Projects Acct | D18: =-PAYPAL!H22 -> 67.14 | P18: =P17+SUM(C18:O18) -> 1557.49
A19: 45077 | B19: Bank fee for min. balance below $1,500 | K19: -25 | P19: =P18+SUM(C19:O19) -> 1532.49
A20: 45244 | B20: deposit, donation from Nic Keiderling | C20: 2500 | P20: =P19+SUM(C20:O20) -> 4032.49
A21: 45259 | B21: Transfer $3,000 to personal acct. of Andrew Karp, who in-turn promptly transferred the same amt to AdP in Guatemala (handling it this way avoided a bank fee of $50) | F21: -3000 | P21: =P20+SUM(C21:O21) -> 1032.49
A22: 45260 | B22: Bank fee for min. balance below $1,500 | K22: -25 | P22: =P21+SUM(C22:O22) -> 1007.49
A23: 45281 | B23: deposit, donation from unidentified | C23: 1000 | P23: =P22+SUM(C23:O23) -> 2007.49
A24: 45290 | B24: Bank fee for min. balance below $1,500 | K24: -25 | P24: =P23+SUM(C24:O24) -> 1982.49
B25: TOTALS FOR EACH CATEGORY | C25: =SUM(C11:C24) -> 6250 | D25: =SUM(D11:D24) -> 67.14 | E25: =SUM(E4:E24) -> 0 | F25: =SUM(F4:F24) -> -11500 | G25: =SUM(G4:G24) -> 0 | H25: =SUM(H4:H24) -> 0 | I25: =SUM(I4:I24) -> 0 | J25: =SUM(J4:J24) -> 0 | K25: =SUM(K4:K24) -> -75 | L25: =SUM(L4:L24) -> 0 | ... O25: =SUM(O4:O24) -> 0
B26: TOTAL ANNUAL EXPENSES FOR THIS ACCT | Q26: =SUM(E25:O25) -> -12425
B27: TOTAL ANNUAL INCOME FOR THIS ACCT | C27: =C25 -> 6250
A29: 2022 END OF YEAR BALANCE: | P29: =P24 -> 1982.49

Sheet Human Rights & GoFundMe accts
A1: HUMAN RIGHTS ACCT. (at TDBank) and GoFundMe ACCOUNT**
C2: *Note: Negative values (in parenthesis) indicate expenses. Positive values indicate income. Blank or dash indicates zero.
C3: Donations to Human Rights Acct | D3: EXPENSES CATAGORIZED FOR IRS FORM 990 PART IX | O3: Balance in Human Rights acct on this date | P3: TOTAL ANNUAL EXPENSES | Q3: Donations to GoFundMe Acct | R3: Balance in GoFundMe acct on this date | S3: TOTAL OF ANNUAL DONATIONS TO THESE TWO ACCTS. | T3: END OF YEAR TOTAL OF BALANCES IN THESE TWO ACCOUNTS
A4: Date | B4: Description for Human Rights account transactions (except where otherwise noted) | D4: 1. (Column B) Grants and other assistance to domestic organizations | E4: 3. (column B) Grants and other assistance to foreign organizations & foreign individuals | F4: 11.a. (Column C) Fees for Services - a. Managemt | G4: 11.b. (Column B) Fees for Services - b. Legal | H4: 11 g. (Column C) g. Other expenses | I4: 12. (Column D) Advertising & Promotion | J4: 13. (Column C) OFFICE (includes bank fees) | K4: 14. Informa-tion technology | L4: 17. (Column C) Travel | M4: 23. (column C) Insurance | N4: 24. e. (Column B) All other expenses
A5: 2022:
A6: Note: The GoFundMe acct was opened in 2022
A7: 2022 BEGINNING BALANCE IN GoFundMe ACCT: | R7: zero $
A8: Note: The Human Rights acct was opened on 4/25/22
A9: 2022 BEGINNING BALANCE IN HUMAN RIGHTS ACCT: | O9: zero $ | Q9: n.a. | R9: n.a.
A10: 45041 | B10: Deposit donation from Steve Cox | C10: 10 | O10: =0+SUM(C10:N10) -> 10 | Q10: n.a. | R10: n.a.
A11: 45090 | B11: Deposit unidentified donation | C11: 150 | O11: =O10+SUM(C11:N11) -> 160 | Q11: n.a. | R11: n.a.
A12: 45093 | B12: Deposit unidentified donation | C12: 250 | O12: =O11+SUM(C12:N12) -> 410 | Q12: n.a. | R12: n.a.
A13: 45105 | B13: Deposit unidentified donation | C13: 200 | O13: =O12+SUM(C13:N13) -> 610 | Q13: n.a. | R13: n.a.
A14: 45107 | B14: Bank fee for paper statement | J14: -3 | O14: =O13+SUM(C14:N14) -> 607 | Q14: n.a. | R14: n.a.
A15: 45135 | B15: Deposit donation from Patti White | C15: 1500 | O15: =O14+SUM(C15:N15) -> 2107 | Q15: n.a. | R15: n.a.
A16: 45136 | B16: Bank fee for paper statement | J16: -3 | O16: =O15+SUM(C16:N16) -> 2104 | Q16: n.a. | R16: n.a.
A17: 45150 | B17: Deposit donation from Wendy Chavkin | C17: 7500 | O17: =O16+SUM(C17:N17) -> 9604 | Q17: n.a. | R17: n.a.
A18: 45169 | B18: Bank fee for paper statement | J18: -3 | O18: =O17+SUM(C18:N18) -> 9601 | Q18: n.a. | R18: n.a.
A19: 45183 | B19: Deposit donation from Sally Madden | C19: 25000 | O19: =O18+SUM(C19:N19) -> 34601 | Q19: n.a. | R19: n.a.
A20: 45197 | B20: ck. 101 to S.Cox for $3,055.08 to reimburse the following expenses nos. 1-4: | O20: =O19+SUM(C20:N20) -> 34601 | Q20: n.a. | R20: n.a.
B21: 1. Laptop and Apple Care | E21: -1138.58 | O21: =O20+SUM(C21:N21) -> 33462.42 | Q21: n.a. | R21: n.a.
B22: 2. Plane ticket Ankara to JFK (New York) | E22: -916.5 | O22: =O21+SUM(C22:N22) -> 32545.92 | Q22: n.a. | R22: n.a.
B23: 3. Support by ck. to open Nazeela's B of A acct = 1st installment on support payment | E23: -800 | O23: =O22+SUM(C23:N23) -> 31745.92 | Q23: n.a. | R23: n.a.
B24: 4. Cash to open Nazeela's B of A acct = 1st installment on support payment | E24: -200 | O24: =O23+SUM(C24:N24) -> 31545.92 | Q24: n.a. | R24: n.a.
A25: 45199 | B25: Bank fee for paper statement | J25: -3 | O25: =O24+SUM(C25:N25) -> 31542.92 | Q25: n.a. | R25: n.a.
A26: 45211 | B26: ck. 101 to Columbia U. for Nazeela Elmi's 1st semester tuition & fees | D26: -26776 | O26: =O25+SUM(C26:N26) -> 4766.92 | Q26: n.a. | R26: n.a.
A27: 45218 | B27: Dep donation from Sarah Lynch/Kris Winsted | C27: 500 | O27: =O26+SUM(C27:N27) -> 5266.92 | Q27: n.a. | R27: n.a.
A28: 45224 | B28: Deposit donation from Susan Blaustein | C28: 25000 | O28: =O27+SUM(C28:N28) -> 30266.92 | Q28: n.a. | R28: n.a.
A29: 45224 | B29: check no. 104 to Nazeela Elmi for support | E29: -2000 | O29: =O28+SUM(C29:N29) -> 28266.92 | Q29: n.a. | R29: n.a.
A30: 45230 | B30: Bank fee for paper statement | J30: -3 | O30: =O29+SUM(C30:N30) -> 28263.92 | Q30: n.a. | R30: n.a.
A31: 45260 | B31: Bank fee for paper statement | J31: -3 | O31: =O30+SUM(C31:N31) -> 28260.92 | Q31: n.a. | R31: n.a.
A32: 45282 | B32: check no. 103 to Nazeela Elmi for support | E32: -1500 | O32: =O31+SUM(C32:N32) -> 26760.92 | Q32: n.a. | R32: n.a.
A33: 45290 | B33: Bank fee for paper statement | J33: -3 | O33: =O32+SUM(C33:N33) -> 26757.92 | Q33: n.a. | R33: n.a.
A34: ENTIRE YEAR | B34: GoFundMe account | Q34: 13200 | R34: 13200
B35: TOTALS FOR EACH SUB-CATEGORY | C35: =SUM(C2:C34) -> 60110 | D35: =SUM(D10:D34) -> -26776 | E35: =SUM(E10:E34) -> -6555.08 | F35: =SUM(F10:F34) -> 0 | G35: =SUM(G10:G34) -> 0 | H35: =SUM(H10:H34) -> 0 | I35: =SUM(I10:I34) -> 0 | J35: =SUM(J10:J34) -> -21 | K35: =SUM(K10:K34) -> 0 | ... N35: =SUM(N10:N34) -> 0 | O35: =O33 -> 26757.92 | Q35: n.a. | R35: n.a.
B36: Subtotal for 990 line 13 "Grants & similar amounts - foreign and domestic | D36: =E35+D35 -> -33331.08
B37: TOTAL ANNUAL EXPENSES | P37: =SUM(D35:N35) -> -33352.08
B38: TOTAL ANNUAL INCOME FOR HUMAN RIGHTS ACCT | C38: =C35 -> 60110
B39: TOTAL ANNUAL INCOME FOR GoFundMe ACCT | Q39: =Q34 -> 13200
B40: TOTAL OF ANNUAL INCOME FOR THESE TWO ACCTS | S40: =C38+Q39 -> 73310
...

Sheet PAYPAL
A1: PAYPAL | B1: Jan. 1, 2022 - Jan. 31, 2023
A2: DATE | D2: DONATIONS | E2: TRANSFER TO TDBANK ACCT | F2: PAYPAL FEE | G2: NET | I2: BALANCE
A4: START OF YEAR BALANCE: | I4: 0
A5: 44926 | B5: Payment from | C5: Steven Kramer | D5: $1,000.00 USD | F5: -20.39 | G5: 979.61 | M5: P
A7: 44924 | B7: Payment from | C7: Stephen Cox | D7: $500.00 USD | F7: -10.44 | G7: 489.56
A9: 44924 | B9: Payment from | C9: Lawrence Bartlett | D9: $250.00 USD | F9: -5.47 | G9: 244.53
A11: 44923 | B11: Payment from | C11: Steve Brown | D11: $500.00 USD | F11: -10.44 | G11: 489.56
A14: 44923 | B14: Payment from | C14: William Kilmartin | D14: $50.00 USD | F14: -1.49 | G14: 48.51
A16: 44904 | B16: Payment from | C16: Bruce Clemens | D16: $2.00 USD | F16: -0.53 | G16: 1.47
A18: 44845 | B18: Payment to | C18: Honey Science Corporation | D18: -$19.23 USD | F18: 0 | G18: 0 | H18: -19.23 | I18: PayPal expense (PayPal owns Honey Science Corp.)
A20: 44812 | B20: Withdraw from | C20: Bank Account | D20: $5.00 USD | F20: 0 | G20: 5
A22: 44707 | B22: Transfer to | C22: Bank Account | F22: 0 | G22: 0 | H22: -67.14 | I22: transferred to Projects Acct
E23: -$67.14 USD
A24: 44585 | B24: Payment from | C24: jeff deis | D24: $60.00 USD | F24: -1.68 | G24: 58.32
A26: 44585 | B26: Payment from | C26: Bruce Clemens | D26: $5.00 USD | F26: -0.59 | G26: 4.41
A28: 44585 | B28: Payment from | C28: Bruce Clemens | D28: $5.00 USD | F28: -0.59 | G28: 4.41
A30: TOTAL INCOME | G30: =SUM(G5:G29) -> 2325.38
A31: END OF YEAR BALANCE: | H31: =G30+SUM(H18:H23) -> 2239.01
A32: WITHHELD BY PAYPAL AT END OF YEAR | G32: -253.24
A33: UNIDENTIFIED CORRECTION | G33: =-G32-H31+I34 -> 14.23
A34: AVAILABLE AT END OF YEAR | I34: 2000

Sheet IRS FORM 990 PART IX
B1: VALUES INCLUDED IN 2022 IRS FORM 990
B2: Part IX Statement of Functional Expenses
B3: Section 501(c)(3) and 501(c)(4) organizations must complete all columns. All other organizations must complete column (A).
B4: Check if Schedule O contains a response or note to any line in this Part IX . . . . . . . . . . . .
C5: (A) | D5: (B) | E5: (C) | F5: (D)
C6: Total expenses | D6: Program service expenses | E6: Management and general expenses | F6: Fundraising expenses
A7: 1 | B7: Grants and other assistance to domestic organizations and domestic governments. See Part IV, line 21 . | C7: =SUM(D7:F7) -> 26776 | D7: =-'CONSOLIDATED TOTALS'!F8 -> 26776
A8: 2 | B8: Grants and other assistance to domestic individuals. See Part IV, line 22 . . . . .
A9: 3 | B9: Grants and other assistance to foreign organizations, foreign governments, and foreign individuals. See Part IV, lines 15 and 16 | C9: =SUM(D9:F9) -> 19276.08 | D9: =-'CONSOLIDATED TOTALS'!G8 -> 19276.08
A10: 4 | B10: Benefits paid to or for members . . . .
A11: 5 | B11: Compensation of current officers, directors, trustees, and key employees . . . . .
A12: 6 | B12: Compensation not included above to disqualified persons (as defined under section 4958(f)(1)) and persons described in section 4958(c)(3)(B) . .
A13: 7 | B13: Other salaries and wages . . . . . .
A14: 8 | B14: Pension plan accruals and contributions (include section 401(k) and 403(b) employer contributions)
A15: 9 | B15: Other employee benefits . . . . . . .
A16: 10 | B16: Payroll taxes . . . . . . . . . . .
A17: 11 | B17: Fees for services (nonemployees):
B18: a Management . . . . . . . . . . | C18: =SUM(D18:F18) -> 0 | E18: =-'CONSOLIDATED TOTALS'!H8 -> 0
B19: b Legal . . . . . . . . . . . . . | C19: =SUM(D19:F19) -> 377.35 | D19: =-'CONSOLIDATED TOTALS'!I8 -> 377.35
B20: c Accounting . . . . . . . . . . .
B21: d Lobbying . . . . . . . . . . . .
B22: e Professional fundraising services. See Part IV, line 17
B23: f Investment management fees . . . . .
B24: g Other. (If line 11g amount exceeds 10% of line 25, column (A), amount, list line 11g expenses on Schedule O.) . | C24: =SUM(D24:F24) -> 0 | D24: =-'CONSOLIDATED TOTALS'!J8 -> 0
A25: 12 | B25: Advertising and promotion . . . . . . | C25: =SUM(D25:F25) -> 0 | F25: =-'CONSOLIDATED TOTALS'!K8 -> 0
A26: 13 | B26: Office expenses . . . . . . . . . | C26: =SUM(D26:F26) -> 107.43 | E26: =-'CONSOLIDATED TOTALS'!L8 -> 107.43
A27: 14 | B27: Information technology . . . . . . . | C27: =SUM(D27:F27) -> 2021.53 | E27: =-'CONSOLIDATED TOTALS'!M8 -> 2021.53
A28: 15 | B28: Royalties . . . . . . . . . . . .
A29: 16 | B29: Occupancy . . . . . . . . . . .
A30: 17 | B30: Travel . . . . . . . . . . . . . | C30: =SUM(D30:F30) -> 189.3 | E30: =-'CONSOLIDATED TOTALS'!N8 -> 189.3
A31: 18 | B31: Payments of travel or entertainment expenses for any federal, state, or local public officials
A32: 19 | B32: Conferences, conventions, and meetings .
A33: 20 | B33: Interest . . . . . . . . . . . .
A34: 21 | B34: Payments to affiliates . . . . . . . .
A35: 22 | B35: Depreciation, depletion, and amortization .
A36: 23 | B36: Insurance . . . . . . . . . . . . | C36: =SUM(D36:F36) -> 850 | E36: =-'CONSOLIDATED TOTALS'!O8 -> 850
A37: 24 | B37: Other expenses. Itemize expenses not covered above. (List miscellaneous expenses on line 24e. If line 24e amount exceeds 10% of line 25, column (A), amount, list line 24e expenses on Schedule O.)
B38: a
B39: b
B40: c
...
